BEGIN:VCALENDAR
VERSION:2.0
PRODID:-//Arkansas Skatium - ECPv6.15.12.2//NONSGML v1.0//EN
CALSCALE:GREGORIAN
METHOD:PUBLISH
X-WR-CALNAME:Arkansas Skatium
X-ORIGINAL-URL:https://arkansasskatium.com
X-WR-CALDESC:Events for Arkansas Skatium
REFRESH-INTERVAL;VALUE=DURATION:PT1H
X-Robots-Tag:noindex
X-PUBLISHED-TTL:PT1H
BEGIN:VTIMEZONE
TZID:America/North_Dakota/New_Salem
BEGIN:DAYLIGHT
TZOFFSETFROM:-0600
TZOFFSETTO:-0500
TZNAME:CDT
DTSTART:20250309T080000
END:DAYLIGHT
BEGIN:STANDARD
TZOFFSETFROM:-0500
TZOFFSETTO:-0600
TZNAME:CST
DTSTART:20251102T070000
END:STANDARD
BEGIN:DAYLIGHT
TZOFFSETFROM:-0600
TZOFFSETTO:-0500
TZNAME:CDT
DTSTART:20260308T080000
END:DAYLIGHT
BEGIN:STANDARD
TZOFFSETFROM:-0500
TZOFFSETTO:-0600
TZNAME:CST
DTSTART:20261101T070000
END:STANDARD
BEGIN:DAYLIGHT
TZOFFSETFROM:-0600
TZOFFSETTO:-0500
TZNAME:CDT
DTSTART:20270314T080000
END:DAYLIGHT
BEGIN:STANDARD
TZOFFSETFROM:-0500
TZOFFSETTO:-0600
TZNAME:CST
DTSTART:20271107T070000
END:STANDARD
END:VTIMEZONE
BEGIN:VEVENT
DTSTART;TZID=America/North_Dakota/New_Salem:20260420T080000
DTEND;TZID=America/North_Dakota/New_Salem:20260420T153000
DTSTAMP:20260422T032453
CREATED:20260330T134339Z
LAST-MODIFIED:20260330T134339Z
UID:10018460-1776672000-1776699000@arkansasskatium.com
SUMMARY:Ice Maintenance
DESCRIPTION:
URL:https://arkansasskatium.com/event/ice-maintenance-3/2026-04-20/
END:VEVENT
BEGIN:VEVENT
DTSTART;TZID=America/North_Dakota/New_Salem:20260420T153000
DTEND;TZID=America/North_Dakota/New_Salem:20260420T180000
DTSTAMP:20260422T032453
CREATED:20260330T134440Z
LAST-MODIFIED:20260330T134440Z
UID:10018473-1776699000-1776708000@arkansasskatium.com
SUMMARY:Freestyle: Figure Skating Practice
DESCRIPTION:
URL:https://arkansasskatium.com/event/freestyle-figure-skating-practice-21/2026-04-20/
END:VEVENT
BEGIN:VEVENT
DTSTART;TZID=America/North_Dakota/New_Salem:20260420T180000
DTEND;TZID=America/North_Dakota/New_Salem:20260420T181500
DTSTAMP:20260422T032453
CREATED:20260330T134506Z
LAST-MODIFIED:20260330T134506Z
UID:10018485-1776708000-1776708900@arkansasskatium.com
SUMMARY:Resurface
DESCRIPTION:
URL:https://arkansasskatium.com/event/resurface-15/2026-04-20/
END:VEVENT
BEGIN:VEVENT
DTSTART;TZID=America/North_Dakota/New_Salem:20260420T181500
DTEND;TZID=America/North_Dakota/New_Salem:20260420T191500
DTSTAMP:20260422T032453
CREATED:20260330T134558Z
LAST-MODIFIED:20260330T134558Z
UID:10018497-1776708900-1776712500@arkansasskatium.com
SUMMARY:10U/12U Aces Spring Hockey 2026
DESCRIPTION:
URL:https://arkansasskatium.com/event/10u-12u-aces-spring-hockey-2026/2026-04-20/
END:VEVENT
BEGIN:VEVENT
DTSTART;TZID=America/North_Dakota/New_Salem:20260420T183000
DTEND;TZID=America/North_Dakota/New_Salem:20260420T213000
DTSTAMP:20260422T032453
CREATED:20260330T131021Z
LAST-MODIFIED:20260330T131021Z
UID:10018201-1776709800-1776720600@arkansasskatium.com
SUMMARY:Rock Town Roller Derby Practice
DESCRIPTION:
URL:https://arkansasskatium.com/event/rock-town-roller-derby-practice/2026-04-20/
END:VEVENT
BEGIN:VEVENT
DTSTART;TZID=America/North_Dakota/New_Salem:20260420T191500
DTEND;TZID=America/North_Dakota/New_Salem:20260420T193000
DTSTAMP:20260422T032453
CREATED:20260330T134627Z
LAST-MODIFIED:20260330T134627Z
UID:10018509-1776712500-1776713400@arkansasskatium.com
SUMMARY:Resurface
DESCRIPTION:
URL:https://arkansasskatium.com/event/resurface-16/2026-04-20/
END:VEVENT
BEGIN:VEVENT
DTSTART;TZID=America/North_Dakota/New_Salem:20260420T193000
DTEND;TZID=America/North_Dakota/New_Salem:20260420T203000
DTSTAMP:20260422T032453
CREATED:20260330T134702Z
LAST-MODIFIED:20260330T134702Z
UID:10018521-1776713400-1776717000@arkansasskatium.com
SUMMARY:14U/JV Aces Spring Hockey 2026
DESCRIPTION:
URL:https://arkansasskatium.com/event/14u-jv-aces-spring-hockey-2026/2026-04-20/
END:VEVENT
BEGIN:VEVENT
DTSTART;TZID=America/North_Dakota/New_Salem:20260420T203000
DTEND;TZID=America/North_Dakota/New_Salem:20260420T204500
DTSTAMP:20260422T032453
CREATED:20260330T134754Z
LAST-MODIFIED:20260330T134754Z
UID:10018533-1776717000-1776717900@arkansasskatium.com
SUMMARY:Resurface
DESCRIPTION:
URL:https://arkansasskatium.com/event/resurface-17/2026-04-20/
END:VEVENT
BEGIN:VEVENT
DTSTART;TZID=America/North_Dakota/New_Salem:20260420T204500
DTEND;TZID=America/North_Dakota/New_Salem:20260420T221500
DTSTAMP:20260422T032453
CREATED:20260330T134843Z
LAST-MODIFIED:20260330T134843Z
UID:10018545-1776717900-1776723300@arkansasskatium.com
SUMMARY:Skatium League Game (Skill Level A/B/C)
DESCRIPTION:
URL:https://arkansasskatium.com/event/skatium-league-game-skill-level-a-b-c-2/2026-04-20/
END:VEVENT
END:VCALENDAR