BEGIN:VCALENDAR
VERSION:2.0
PRODID:-//Arkansas Skatium - ECPv6.15.12.2//NONSGML v1.0//EN
CALSCALE:GREGORIAN
METHOD:PUBLISH
X-WR-CALNAME:Arkansas Skatium
X-ORIGINAL-URL:https://arkansasskatium.com
X-WR-CALDESC:Events for Arkansas Skatium
REFRESH-INTERVAL;VALUE=DURATION:PT1H
X-Robots-Tag:noindex
X-PUBLISHED-TTL:PT1H
BEGIN:VTIMEZONE
TZID:America/North_Dakota/New_Salem
BEGIN:DAYLIGHT
TZOFFSETFROM:-0600
TZOFFSETTO:-0500
TZNAME:CDT
DTSTART:20250309T080000
END:DAYLIGHT
BEGIN:STANDARD
TZOFFSETFROM:-0500
TZOFFSETTO:-0600
TZNAME:CST
DTSTART:20251102T070000
END:STANDARD
BEGIN:DAYLIGHT
TZOFFSETFROM:-0600
TZOFFSETTO:-0500
TZNAME:CDT
DTSTART:20260308T080000
END:DAYLIGHT
BEGIN:STANDARD
TZOFFSETFROM:-0500
TZOFFSETTO:-0600
TZNAME:CST
DTSTART:20261101T070000
END:STANDARD
BEGIN:DAYLIGHT
TZOFFSETFROM:-0600
TZOFFSETTO:-0500
TZNAME:CDT
DTSTART:20270314T080000
END:DAYLIGHT
BEGIN:STANDARD
TZOFFSETFROM:-0500
TZOFFSETTO:-0600
TZNAME:CST
DTSTART:20271107T070000
END:STANDARD
END:VTIMEZONE
BEGIN:VEVENT
DTSTART;TZID=America/North_Dakota/New_Salem:20260421T130000
DTEND;TZID=America/North_Dakota/New_Salem:20260421T153000
DTSTAMP:20260421T050522
CREATED:20260330T125727Z
LAST-MODIFIED:20260330T125727Z
UID:10018159-1776776400-1776785400@arkansasskatium.com
SUMMARY:Public Ice and Roller Skating
DESCRIPTION:
URL:https://arkansasskatium.com/event/public-ice-and-roller-skating-2/2026-04-21/
END:VEVENT
BEGIN:VEVENT
DTSTART;TZID=America/North_Dakota/New_Salem:20260421T153000
DTEND;TZID=America/North_Dakota/New_Salem:20260421T154500
DTSTAMP:20260421T050522
CREATED:20260330T130059Z
LAST-MODIFIED:20260330T130059Z
UID:10018176-1776785400-1776786300@arkansasskatium.com
SUMMARY:Resurface
DESCRIPTION:
URL:https://arkansasskatium.com/event/resurface-2/2026-04-21/
END:VEVENT
BEGIN:VEVENT
DTSTART;TZID=America/North_Dakota/New_Salem:20260421T154500
DTEND;TZID=America/North_Dakota/New_Salem:20260421T180000
DTSTAMP:20260421T050522
CREATED:20260330T125835Z
LAST-MODIFIED:20260330T125835Z
UID:10018169-1776786300-1776794400@arkansasskatium.com
SUMMARY:Freestyle: Figure Skating Practice
DESCRIPTION:
URL:https://arkansasskatium.com/event/freestyle-figure-skating-practice-9/2026-04-21/
END:VEVENT
BEGIN:VEVENT
DTSTART;TZID=America/North_Dakota/New_Salem:20260421T180000
DTEND;TZID=America/North_Dakota/New_Salem:20260421T191500
DTSTAMP:20260421T050522
CREATED:20260120T143058Z
LAST-MODIFIED:20260330T130703Z
UID:10017977-1776794400-1776798900@arkansasskatium.com
SUMMARY:Learn to Ice Skate
DESCRIPTION:
URL:https://arkansasskatium.com/event/learn-to-ice-skate-3/2026-04-21/
END:VEVENT
BEGIN:VEVENT
DTSTART;TZID=America/North_Dakota/New_Salem:20260421T180000
DTEND;TZID=America/North_Dakota/New_Salem:20260421T193000
DTSTAMP:20260421T050522
CREATED:20260330T130752Z
LAST-MODIFIED:20260330T130752Z
UID:10018191-1776794400-1776799800@arkansasskatium.com
SUMMARY:Learn to Ice Skate
DESCRIPTION:
URL:https://arkansasskatium.com/event/learn-to-ice-skate-2/2026-04-21/
END:VEVENT
BEGIN:VEVENT
DTSTART;TZID=America/North_Dakota/New_Salem:20260421T180000
DTEND;TZID=America/North_Dakota/New_Salem:20260421T193000
DTSTAMP:20260421T050522
CREATED:20260330T131203Z
LAST-MODIFIED:20260330T131203Z
UID:10018215-1776794400-1776799800@arkansasskatium.com
SUMMARY:Speed Skating Practice
DESCRIPTION:
URL:https://arkansasskatium.com/event/speed-skating-practice/2026-04-21/
END:VEVENT
BEGIN:VEVENT
DTSTART;TZID=America/North_Dakota/New_Salem:20260421T193000
DTEND;TZID=America/North_Dakota/New_Salem:20260421T194500
DTSTAMP:20260421T050522
CREATED:20260330T130554Z
LAST-MODIFIED:20260330T130554Z
UID:10018183-1776799800-1776800700@arkansasskatium.com
SUMMARY:Resurface
DESCRIPTION:
URL:https://arkansasskatium.com/event/resurface/2026-04-21/
END:VEVENT
END:VCALENDAR